BEGIN:VCALENDAR
VERSION:2.0
PRODID:-//DP Pro Event Calendar//3.2.6//EN
BEGIN:VEVENT
UID:ae7d2dc7-11a8-417a-b5e1-93a21f37cd9a
DTSTART;TZID=UTC:20230803T203000
DTEND;TZID=UTC:20230803T213000
DTSTAMP:20200608T135232Z
SUMMARY:Western Ilona
DESCRIPTION:
LOCATION:
URL:
END:VEVENT
END:VCALENDAR