BEGIN:VCALENDAR
VERSION:2.0
PRODID:-//DP Pro Event Calendar//3.2.6//EN
BEGIN:VEVENT
UID:35ac342b-5f5f-4f9f-b4cd-9320a4aadb8b
DTSTART;TZID=UTC:20230810T203000
DTEND;TZID=UTC:20230810T213000
DTSTAMP:20200608T135232Z
SUMMARY:Western Ilona
DESCRIPTION:
LOCATION:
URL:
END:VEVENT
END:VCALENDAR