BEGIN:VCALENDAR
VERSION:2.0
PRODID:-//DP Pro Event Calendar//3.2.6//EN
BEGIN:VEVENT
UID:56d6f8ca-4ea2-480f-8238-8d1f4b6a0faf
DTSTART;TZID=UTC:20230817T203000
DTEND;TZID=UTC:20230817T213000
DTSTAMP:20200608T135232Z
SUMMARY:Western Ilona
DESCRIPTION:
LOCATION:
URL:
END:VEVENT
END:VCALENDAR