BEGIN:VCALENDAR
VERSION:2.0
PRODID:-//DP Pro Event Calendar//3.2.6//EN
BEGIN:VEVENT
UID:ac49b12a-9fec-4a5b-88f3-4fc12b5acc31
DTSTART;TZID=UTC:20230824T203000
DTEND;TZID=UTC:20230824T213000
DTSTAMP:20200608T135232Z
SUMMARY:Western Ilona
DESCRIPTION:
LOCATION:
URL:
END:VEVENT
END:VCALENDAR