BEGIN:VCALENDAR
VERSION:2.0
PRODID:-//DP Pro Event Calendar//3.2.6//EN
BEGIN:VEVENT
UID:8231a17f-92a2-44cd-a1ee-87bee5a2b83a
DTSTART;TZID=UTC:20230831T203000
DTEND;TZID=UTC:20230831T213000
DTSTAMP:20200608T135232Z
SUMMARY:Western Ilona
DESCRIPTION:
LOCATION:
URL:
END:VEVENT
END:VCALENDAR