BEGIN:VCALENDAR
VERSION:2.0
PRODID:-//DP Pro Event Calendar//3.2.6//EN
BEGIN:VEVENT
UID:5e605141-b4df-4ee0-bb4d-4f47b86474ee
DTSTART;TZID=UTC:20230907T203000
DTEND;TZID=UTC:20230907T213000
DTSTAMP:20200608T135232Z
SUMMARY:Western Ilona
DESCRIPTION:
LOCATION:
URL:
END:VEVENT
END:VCALENDAR