BEGIN:VCALENDAR
VERSION:2.0
PRODID:-//DP Pro Event Calendar//3.2.6//EN
BEGIN:VEVENT
UID:0c783465-ba68-43fa-baf4-8fc52c6d1adf
DTSTART;TZID=UTC:20230921T203000
DTEND;TZID=UTC:20230921T213000
DTSTAMP:20200608T135232Z
SUMMARY:Western Ilona
DESCRIPTION:
LOCATION:
URL:
END:VEVENT
END:VCALENDAR