BEGIN:VCALENDAR
VERSION:2.0
PRODID:-//DP Pro Event Calendar//3.2.6//EN
BEGIN:VEVENT
UID:bc5826c6-e6e7-4d21-ae9c-4457734f6c57
DTSTART;TZID=UTC:20230928T203000
DTEND;TZID=UTC:20230928T213000
DTSTAMP:20200608T135232Z
SUMMARY:Western Ilona
DESCRIPTION:
LOCATION:
URL:
END:VEVENT
END:VCALENDAR