BEGIN:VCALENDAR
VERSION:2.0
PRODID:-//DP Pro Event Calendar//3.2.6//EN
BEGIN:VEVENT
UID:0c2c717b-c679-4e43-812d-43ef2c48b541
DTSTART;TZID=UTC:20231005T203000
DTEND;TZID=UTC:20231005T213000
DTSTAMP:20200608T135232Z
SUMMARY:Western Ilona
DESCRIPTION:
LOCATION:
URL:
END:VEVENT
END:VCALENDAR