BEGIN:VCALENDAR
VERSION:2.0
PRODID:-//DP Pro Event Calendar//3.2.6//EN
BEGIN:VEVENT
UID:f2d0b561-a6f4-43ab-bd44-f4492c592e06
DTSTART;TZID=UTC:20231012T203000
DTEND;TZID=UTC:20231012T213000
DTSTAMP:20200608T135232Z
SUMMARY:Western Ilona
DESCRIPTION:
LOCATION:
URL:
END:VEVENT
END:VCALENDAR