BEGIN:VCALENDAR
VERSION:2.0
PRODID:-//DP Pro Event Calendar//3.2.6//EN
BEGIN:VEVENT
UID:fc6a2253-6209-4016-96f7-cf68a40ea799
DTSTART;TZID=UTC:20231019T203000
DTEND;TZID=UTC:20231019T213000
DTSTAMP:20200608T135232Z
SUMMARY:Western Ilona
DESCRIPTION:
LOCATION:
URL:
END:VEVENT
END:VCALENDAR