BEGIN:VCALENDAR
VERSION:2.0
PRODID:-//DP Pro Event Calendar//3.2.6//EN
BEGIN:VEVENT
UID:0e622879-a5b5-4ecb-9d83-3e9c369dfec9
DTSTART;TZID=UTC:20231026T203000
DTEND;TZID=UTC:20231026T213000
DTSTAMP:20200608T135232Z
SUMMARY:Western Ilona
DESCRIPTION:
LOCATION:
URL:
END:VEVENT
END:VCALENDAR