BEGIN:VCALENDAR
VERSION:2.0
PRODID:-//DP Pro Event Calendar//3.2.6//EN
BEGIN:VEVENT
UID:17cdd8a9-c660-4587-9898-7e9d530f4b66
DTSTART;TZID=UTC:20231116T203000
DTEND;TZID=UTC:20231116T213000
DTSTAMP:20200608T135232Z
SUMMARY:Western Ilona
DESCRIPTION:
LOCATION:
URL:
END:VEVENT
END:VCALENDAR