BEGIN:VCALENDAR
VERSION:2.0
PRODID:-//DP Pro Event Calendar//3.2.6//EN
BEGIN:VEVENT
UID:0d89365d-ef37-40ea-848a-1ad24877159e
DTSTART;TZID=UTC:20231123T203000
DTEND;TZID=UTC:20231123T213000
DTSTAMP:20200608T135232Z
SUMMARY:Western Ilona
DESCRIPTION:
LOCATION:
URL:
END:VEVENT
END:VCALENDAR