BEGIN:VCALENDAR
VERSION:2.0
PRODID:-//DP Pro Event Calendar//3.2.6//EN
BEGIN:VEVENT
UID:63dfc2a0-21b8-4169-a09f-c2077faeb9fb
DTSTART;TZID=UTC:20231207T203000
DTEND;TZID=UTC:20231207T213000
DTSTAMP:20200608T135232Z
SUMMARY:Western Ilona
DESCRIPTION:
LOCATION:
URL:
END:VEVENT
END:VCALENDAR