BEGIN:VCALENDAR
VERSION:2.0
PRODID:-//DP Pro Event Calendar//3.2.6//EN
BEGIN:VEVENT
UID:17ffe3ff-9e52-40bd-a9dd-6fa73b3b4bfd
DTSTART;TZID=UTC:20231221T203000
DTEND;TZID=UTC:20231221T213000
DTSTAMP:20200608T135232Z
SUMMARY:Western Ilona
DESCRIPTION:
LOCATION:
URL:
END:VEVENT
END:VCALENDAR