BEGIN:VCALENDAR
VERSION:2.0
PRODID:-//DP Pro Event Calendar//3.2.6//EN
BEGIN:VEVENT
UID:8178fd2f-b253-4fd2-a158-08b2160b1344
DTSTART;TZID=UTC:20231228T203000
DTEND;TZID=UTC:20231228T213000
DTSTAMP:20200608T135232Z
SUMMARY:Western Ilona
DESCRIPTION:
LOCATION:
URL:
END:VEVENT
END:VCALENDAR