BEGIN:VCALENDAR
VERSION:2.0
PRODID:-//DP Pro Event Calendar//3.2.6//EN
BEGIN:VEVENT
UID:987c9ca2-3731-4c85-b059-2498e592b677
DTSTART;TZID=UTC:20240111T203000
DTEND;TZID=UTC:20240111T213000
DTSTAMP:20200608T135232Z
SUMMARY:Western Ilona
DESCRIPTION:
LOCATION:
URL:
END:VEVENT
END:VCALENDAR