BEGIN:VCALENDAR
VERSION:2.0
PRODID:-//DP Pro Event Calendar//3.2.6//EN
BEGIN:VEVENT
UID:3739c820-9ce5-4fd6-8b8f-20e074464bf3
DTSTART;TZID=UTC:20240125T203000
DTEND;TZID=UTC:20240125T213000
DTSTAMP:20200608T135232Z
SUMMARY:Western Ilona
DESCRIPTION:
LOCATION:
URL:
END:VEVENT
END:VCALENDAR