BEGIN:VCALENDAR
VERSION:2.0
PRODID:-//DP Pro Event Calendar//3.2.6//EN
BEGIN:VEVENT
UID:ddd0f089-31bc-492a-8f62-06809ec9d1b8
DTSTART;TZID=UTC:20240201T203000
DTEND;TZID=UTC:20240201T213000
DTSTAMP:20200608T135232Z
SUMMARY:Western Ilona
DESCRIPTION:
LOCATION:
URL:
END:VEVENT
END:VCALENDAR