BEGIN:VCALENDAR
VERSION:2.0
PRODID:-//DP Pro Event Calendar//3.2.6//EN
BEGIN:VEVENT
UID:57859491-1495-4c80-92a1-14a2571f2aca
DTSTART;TZID=UTC:20240208T203000
DTEND;TZID=UTC:20240208T213000
DTSTAMP:20200608T135232Z
SUMMARY:Western Ilona
DESCRIPTION:
LOCATION:
URL:
END:VEVENT
END:VCALENDAR