BEGIN:VCALENDAR
VERSION:2.0
PRODID:-//DP Pro Event Calendar//3.2.6//EN
BEGIN:VEVENT
UID:5d5093c8-0a7d-4ae2-beb4-bd130bd49b25
DTSTART;TZID=UTC:20240321T203000
DTEND;TZID=UTC:20240321T213000
DTSTAMP:20200608T135232Z
SUMMARY:Western Ilona
DESCRIPTION:
LOCATION:
URL:
END:VEVENT
END:VCALENDAR