BEGIN:VCALENDAR
VERSION:2.0
PRODID:-//DP Pro Event Calendar//3.2.6//EN
BEGIN:VEVENT
UID:d50ef493-f05b-47f2-9c0f-7abd012aaa96
DTSTART;TZID=UTC:20240411T203000
DTEND;TZID=UTC:20240411T213000
DTSTAMP:20200608T135232Z
SUMMARY:Western Ilona
DESCRIPTION:
LOCATION:
URL:
END:VEVENT
END:VCALENDAR