BEGIN:VCALENDAR
VERSION:2.0
PRODID:-//DP Pro Event Calendar//3.2.6//EN
BEGIN:VEVENT
UID:cf650ca4-3fcf-4687-9365-6bbe31b76442
DTSTART;TZID=UTC:20240502T203000
DTEND;TZID=UTC:20240502T213000
DTSTAMP:20200608T135232Z
SUMMARY:Western Ilona
DESCRIPTION:
LOCATION:
URL:
END:VEVENT
END:VCALENDAR