BEGIN:VCALENDAR
VERSION:2.0
PRODID:-//DP Pro Event Calendar//3.2.6//EN
BEGIN:VEVENT
UID:5418c02f-9572-4b95-a70f-29c6ee9ecf6c
DTSTART;TZID=UTC:20240516T203000
DTEND;TZID=UTC:20240516T213000
DTSTAMP:20200608T135232Z
SUMMARY:Western Ilona
DESCRIPTION:
LOCATION:
URL:
END:VEVENT
END:VCALENDAR