BEGIN:VCALENDAR
VERSION:2.0
PRODID:-//DP Pro Event Calendar//3.2.6//EN
BEGIN:VEVENT
UID:dfcf8449-f53e-40a4-8629-528965c535c7
DTSTART;TZID=UTC:20240613T203000
DTEND;TZID=UTC:20240613T213000
DTSTAMP:20200608T135232Z
SUMMARY:Western Ilona
DESCRIPTION:
LOCATION:
URL:
END:VEVENT
END:VCALENDAR