BEGIN:VCALENDAR
VERSION:2.0
PRODID:-//DP Pro Event Calendar//3.2.6//EN
BEGIN:VEVENT
UID:072b0406-96fd-431b-acb7-9b56f8367a55
DTSTART;TZID=UTC:20240620T203000
DTEND;TZID=UTC:20240620T213000
DTSTAMP:20200608T135232Z
SUMMARY:Western Ilona
DESCRIPTION:
LOCATION:
URL:
END:VEVENT
END:VCALENDAR