BEGIN:VCALENDAR
VERSION:2.0
PRODID:-//DP Pro Event Calendar//3.2.6//EN
BEGIN:VEVENT
UID:64b6e006-7a15-4128-b18a-cb6c25f7538d
DTSTART;TZID=UTC:20240822T203000
DTEND;TZID=UTC:20240822T213000
DTSTAMP:20200608T135232Z
SUMMARY:Western Ilona
DESCRIPTION:
LOCATION:
URL:
END:VEVENT
END:VCALENDAR