BEGIN:VCALENDAR
VERSION:2.0
PRODID:-//DP Pro Event Calendar//3.2.6//EN
BEGIN:VEVENT
UID:bfdc5d07-de02-4312-899d-abf1ece22c34
DTSTART;TZID=UTC:20250123T203000
DTEND;TZID=UTC:20250123T213000
DTSTAMP:20200608T135232Z
SUMMARY:Western Ilona
DESCRIPTION:
LOCATION:
URL:
END:VEVENT
END:VCALENDAR