BEGIN:VCALENDAR
VERSION:2.0
PRODID:-//DP Pro Event Calendar//3.2.6//EN
BEGIN:VEVENT
UID:e977607d-7b5d-412b-a16a-99ae277cfec8
DTSTART;TZID=UTC:20250417T203000
DTEND;TZID=UTC:20250417T213000
DTSTAMP:20200608T135232Z
SUMMARY:Western Ilona
DESCRIPTION:
LOCATION:
URL:
END:VEVENT
END:VCALENDAR