BEGIN:VCALENDAR
VERSION:2.0
PRODID:-//DP Pro Event Calendar//3.2.6//EN
BEGIN:VEVENT
UID:63f522e1-cba4-45bd-a384-2ae469112b63
DTSTART;TZID=UTC:20251208T190000
DTEND;TZID=UTC:20251208T200000
DTSTAMP:20200608T124225Z
SUMMARY:Dressuur Ilona
DESCRIPTION:
LOCATION:
URL:
END:VEVENT
END:VCALENDAR