BEGIN:VCALENDAR
VERSION:2.0
PRODID:-//DP Pro Event Calendar//3.2.6//EN
BEGIN:VEVENT
UID:ac41fd69-9b65-48df-9e4d-51e2353ff0d3
DTSTART;TZID=UTC:20260219T183000
DTEND;TZID=UTC:20260219T193000
DTSTAMP:20200608T134922Z
SUMMARY:Dressuur Ilona
DESCRIPTION:
LOCATION:
URL:
END:VEVENT
END:VCALENDAR