BEGIN:VCALENDAR
VERSION:2.0
PRODID:-//DP Pro Event Calendar//3.2.6//EN
BEGIN:VEVENT
UID:ca5bb5ff-f594-43c4-bd4f-b989605aefd5
DTSTART;TZID=UTC:20260223T190000
DTEND;TZID=UTC:20260223T200000
DTSTAMP:20200608T124225Z
SUMMARY:Dressuur Ilona
DESCRIPTION:
LOCATION:
URL:
END:VEVENT
END:VCALENDAR