BEGIN:VCALENDAR
VERSION:2.0
PRODID:-//DP Pro Event Calendar//3.2.6//EN
BEGIN:VEVENT
UID:8699d2ff-e048-4928-b1dd-481b224de4bc
DTSTART;TZID=UTC:20260618T183000
DTEND;TZID=UTC:20260618T193000
DTSTAMP:20200608T134922Z
SUMMARY:Dressuur Ilona
DESCRIPTION:
LOCATION:
URL:
END:VEVENT
END:VCALENDAR