BEGIN:VCALENDAR
VERSION:2.0
PRODID:-//DP Pro Event Calendar//3.2.6//EN
BEGIN:VEVENT
UID:06a40f8d-5a54-4cdd-9a5b-8cef420652f7
DTSTART;TZID=UTC:20260805T150000
DTEND;TZID=UTC:20260805T160000
DTSTAMP:20200608T132341Z
SUMMARY:Dressuur Ilona
DESCRIPTION:
LOCATION:
URL:
END:VEVENT
END:VCALENDAR