BEGIN:VCALENDAR
VERSION:2.0
PRODID:-//DP Pro Event Calendar//3.2.6//EN
BEGIN:VEVENT
UID:7ad7f62b-6b78-4015-ad63-165213ce5d15
DTSTART;TZID=UTC:20261202T150000
DTEND;TZID=UTC:20261202T160000
DTSTAMP:20200608T132341Z
SUMMARY:Dressuur Ilona
DESCRIPTION:
LOCATION:
URL:
END:VEVENT
END:VCALENDAR