BEGIN:VCALENDAR
VERSION:2.0
PRODID:-//DP Pro Event Calendar//3.2.6//EN
BEGIN:VEVENT
UID:d1e461a9-1e87-4f26-8f00-d95b2432c05d
DTSTART;TZID=UTC:20261223T150000
DTEND;TZID=UTC:20261223T160000
DTSTAMP:20200608T132341Z
SUMMARY:Dressuur Ilona
DESCRIPTION:
LOCATION:
URL:
END:VEVENT
END:VCALENDAR