BEGIN:VCALENDAR
VERSION:2.0
PRODID:-//DP Pro Event Calendar//3.2.6//EN
BEGIN:VEVENT
UID:9ec33ee3-803e-4af0-b496-f434f5b62691
DTSTART;TZID=UTC:20270120T150000
DTEND;TZID=UTC:20270120T160000
DTSTAMP:20200608T132341Z
SUMMARY:Dressuur Ilona
DESCRIPTION:
LOCATION:
URL:
END:VEVENT
END:VCALENDAR