BEGIN:VCALENDAR
VERSION:2.0
PRODID:-//DP Pro Event Calendar//3.2.6//EN
BEGIN:VEVENT
UID:a81ba64c-1ad7-4d67-9b08-df8f9b4c1a2e
DTSTART;TZID=UTC:20270217T150000
DTEND;TZID=UTC:20270217T160000
DTSTAMP:20200608T132341Z
SUMMARY:Dressuur Ilona
DESCRIPTION:
LOCATION:
URL:
END:VEVENT
END:VCALENDAR