BEGIN:VCALENDAR
VERSION:2.0
PRODID:-//DP Pro Event Calendar//3.2.6//EN
BEGIN:VEVENT
UID:cd85eb04-b250-4867-b858-af4e5b688a83
DTSTART;TZID=UTC:20270224T150000
DTEND;TZID=UTC:20270224T160000
DTSTAMP:20200608T132341Z
SUMMARY:Dressuur Ilona
DESCRIPTION:
LOCATION:
URL:
END:VEVENT
END:VCALENDAR