BEGIN:VCALENDAR
VERSION:2.0
PRODID:-//DP Pro Event Calendar//3.2.6//EN
BEGIN:VEVENT
UID:97a3a8ad-63de-487a-837b-f1a872a6bdfd
DTSTART;TZID=UTC:20270303T150000
DTEND;TZID=UTC:20270303T160000
DTSTAMP:20200608T132341Z
SUMMARY:Dressuur Ilona
DESCRIPTION:
LOCATION:
URL:
END:VEVENT
END:VCALENDAR