BEGIN:VCALENDAR
VERSION:2.0
PRODID:-//DP Pro Event Calendar//3.2.6//EN
BEGIN:VEVENT
UID:c28683c3-0dc2-4d14-9f4d-96ab80b12a58
DTSTART;TZID=UTC:20270317T150000
DTEND;TZID=UTC:20270317T160000
DTSTAMP:20200608T132341Z
SUMMARY:Dressuur Ilona
DESCRIPTION:
LOCATION:
URL:
END:VEVENT
END:VCALENDAR