BEGIN:VCALENDAR
VERSION:2.0
PRODID:-//DP Pro Event Calendar//3.2.6//EN
BEGIN:VEVENT
UID:fc5cd173-95d0-45ba-9b1e-d7ca6a28c4e8
DTSTART;TZID=UTC:20270324T150000
DTEND;TZID=UTC:20270324T160000
DTSTAMP:20200608T132341Z
SUMMARY:Dressuur Ilona
DESCRIPTION:
LOCATION:
URL:
END:VEVENT
END:VCALENDAR