BEGIN:VCALENDAR
VERSION:2.0
PRODID:-//DP Pro Event Calendar//3.2.6//EN
BEGIN:VEVENT
UID:7a91fa40-9e4c-4aa4-b070-efb69a37dd24
DTSTART;TZID=UTC:20270331T150000
DTEND;TZID=UTC:20270331T160000
DTSTAMP:20200608T132341Z
SUMMARY:Dressuur Ilona
DESCRIPTION:
LOCATION:
URL:
END:VEVENT
END:VCALENDAR