BEGIN:VCALENDAR
VERSION:2.0
PRODID:-//DP Pro Event Calendar//3.2.6//EN
BEGIN:VEVENT
UID:e93aece3-262d-479b-ae74-4e281d20c8e0
DTSTART;TZID=UTC:20270407T150000
DTEND;TZID=UTC:20270407T160000
DTSTAMP:20200608T132341Z
SUMMARY:Dressuur Ilona
DESCRIPTION:
LOCATION:
URL:
END:VEVENT
END:VCALENDAR