BEGIN:VCALENDAR
VERSION:2.0
PRODID:-//DP Pro Event Calendar//3.2.6//EN
BEGIN:VEVENT
UID:d8cca15a-4f61-426b-a748-47e21e1782c7
DTSTART;TZID=UTC:20270414T150000
DTEND;TZID=UTC:20270414T160000
DTSTAMP:20200608T132341Z
SUMMARY:Dressuur Ilona
DESCRIPTION:
LOCATION:
URL:
END:VEVENT
END:VCALENDAR