BEGIN:VCALENDAR
VERSION:2.0
PRODID:-//DP Pro Event Calendar//3.2.6//EN
BEGIN:VEVENT
UID:1ce6bfb7-760c-475f-949d-c85a6a946a96
DTSTART;TZID=UTC:20270421T150000
DTEND;TZID=UTC:20270421T160000
DTSTAMP:20200608T132341Z
SUMMARY:Dressuur Ilona
DESCRIPTION:
LOCATION:
URL:
END:VEVENT
END:VCALENDAR