BEGIN:VCALENDAR
VERSION:2.0
PRODID:-//DP Pro Event Calendar//3.2.6//EN
BEGIN:VEVENT
UID:55d5a414-6c38-4e0d-9f83-11cda77ab0ed
DTSTART;TZID=UTC:20270424T110000
DTEND;TZID=UTC:20270424T120000
DTSTAMP:20200608T140410Z
SUMMARY:Dressuur Ilona
DESCRIPTION:1x per maand worden de dressuur lessen van Ilona op de Zaterdag overgenomen door Ilse.
LOCATION:
URL:
END:VEVENT
END:VCALENDAR