BEGIN:VCALENDAR
VERSION:2.0
PRODID:-//DP Pro Event Calendar//3.2.6//EN
BEGIN:VEVENT
UID:5bb86a17-4ffc-436a-88b1-de74d587f30b
DTSTART;TZID=UTC:20270505T150000
DTEND;TZID=UTC:20270505T160000
DTSTAMP:20200608T132341Z
SUMMARY:Dressuur Ilona
DESCRIPTION:
LOCATION:
URL:
END:VEVENT
END:VCALENDAR