BEGIN:VCALENDAR
VERSION:2.0
PRODID:-//DP Pro Event Calendar//3.2.6//EN
BEGIN:VEVENT
UID:3ed06a0c-bcab-4308-aad4-d667908647a0
DTSTART;TZID=UTC:20270519T150000
DTEND;TZID=UTC:20270519T160000
DTSTAMP:20200608T132341Z
SUMMARY:Dressuur Ilona
DESCRIPTION:
LOCATION:
URL:
END:VEVENT
END:VCALENDAR